Workbook

Sheet Таблица
B1: Бележка: Парите се инвестират в края на всеки месец
G2: Лева
E3: Година | F3: Месец | G3: Спестени за месеца | H3: Спестени до момента | I3: Възвръщаемост за месеца от инвестиции | J3: Спестени + възвръщаемост от инвестирани | K3: Изкарани от инвестиции
B4: Месечни нетни приходи, лв | C4: 1300 | E4: 1 | F4: 1 | G4: =C6 -> 390 | H4: =G4 -> 390 | I4: 0 | J4: =H4+I4 -> 390 | K4: =J4-H4 -> 0
B5: Процент на спестяване | C5: 0.3 | E5: =E4 -> 1 | F5: =F4+1 -> 2 | G5: =G4 -> 390 | H5: =H4+G5 -> 780 | I5: =J4*$C$8 -> 3.25 | J5: =J4+G5+I5 -> 783.25 | K5: =J5-H5 -> 3.25
B6: Спестени на месец, лв | C6: =C4*C5 -> 390 | E6: =E5 -> 1 | F6: =F5+1 -> 3 | G6: =G5 -> 390 | H6: =H5+G6 -> 1170 | I6: =J5*$C$8 -> 6.5270833 | J6: =J5+G6+I6 -> 1179.7771 | K6: =J6-H6 -> 9.7770833
B7: Годишна възвръщаемост от инвестиции | C7: 0.1 | E7: =E6 -> 1 | F7: =F6+1 -> 4 | G7: =G6 -> 390 | H7: =H6+G7 -> 1560 | I7: =J6*$C$8 -> 9.8314757 | J7: =J6+G7+I7 -> 1579.6086 | K7: =J7-H7 -> 19.608559
B8: Месечна възвръщаемост от инвестиции | C8: =C7/12 -> 0.0083333333 | E8: =E7 -> 1 | F8: =F7+1 -> 5 | G8: =G7 -> 390 | H8: =H7+G8 -> 1950 | I8: =J7*$C$8 -> 13.163405 | J8: =J7+G8+I8 -> 1982.772 | K8: =J8-H8 -> 32.771964
E9: =E8 -> 1 | F9: =F8+1 -> 6 | G9: =G8 -> 390 | H9: =H8+G9 -> 2340 | I9: =J8*$C$8 -> 16.5231 | J9: =J8+G9+I9 -> 2389.2951 | K9: =J9-H9 -> 49.295063
B10: Легенда | E10: =E9 -> 1 | F10: =F9+1 -> 7 | G10: =G9 -> 390 | H10: =H9+G10 -> 2730 | I10: =J9*$C$8 -> 19.910792 | J10: =J9+G10+I10 -> 2799.2059 | K10: =J10-H10 -> 69.205856
B11: Въведи стойност | E11: =E10 -> 1 | F11: =F10+1 -> 8 | G11: =G10 -> 390 | H11: =H10+G11 -> 3120 | I11: =J10*$C$8 -> 23.326715 | J11: =J10+G11+I11 -> 3212.5326 | K11: =J11-H11 -> 92.532571
E12: =E11 -> 1 | F12: =F11+1 -> 9 | G12: =G11 -> 390 | H12: =H11+G12 -> 3510 | I12: =J11*$C$8 -> 26.771105 | J12: =J11+G12+I12 -> 3629.3037 | K12: =J12-H12 -> 119.30368
E13: =E12 -> 1 | F13: =F12+1 -> 10 | G13: =G12 -> 390 | H13: =H12+G13 -> 3900 | I13: =J12*$C$8 -> 30.244197 | J13: =J12+G13+I13 -> 4049.5479 | K13: =J13-H13 -> 149.54787
E14: =E13 -> 1 | F14: =F13+1 -> 11 | G14: =G13 -> 390 | H14: =H13+G14 -> 4290 | I14: =J13*$C$8 -> 33.746232 | J14: =J13+G14+I14 -> 4473.2941 | K14: =J14-H14 -> 183.29411
E15: =E14 -> 1 | F15: =F14+1 -> 12 | G15: =G14 -> 390 | H15: =H14+G15 -> 4680 | I15: =J14*$C$8 -> 37.277451 | J15: =J14+G15+I15 -> 4900.5716 | K15: =J15-H15 -> 220.57156
E16: =E4+1 -> 2 | F16: =F15+1 -> 13 | G16: =G15 -> 390 | H16: =H15+G16 -> 5070 | I16: =J15*$C$8 -> 40.838096 | J16: =J15+G16+I16 -> 5331.4097 | K16: =J16-H16 -> 261.40965
E17: =E5+1 -> 2 | F17: =F16+1 -> 14 | G17: =G16 -> 390 | H17: =H16+G17 -> 5460 | I17: =J16*$C$8 -> 44.428414 | J17: =J16+G17+I17 -> 5765.8381 | K17: =J17-H17 -> 305.83807
E18: =E6+1 -> 2 | F18: =F17+1 -> 15 | G18: =G17 -> 390 | H18: =H17+G18 -> 5850 | I18: =J17*$C$8 -> 48.048651 | J18: =J17+G18+I18 -> 6203.8867 | K18: =J18-H18 -> 353.88672
E19: =E7+1 -> 2 | F19: =F18+1 -> 16 | G19: =G18 -> 390 | H19: =H18+G19 -> 6240 | I19: =J18*$C$8 -> 51.699056 | J19: =J18+G19+I19 -> 6645.5858 | K19: =J19-H19 -> 405.58577
E20: =E8+1 -> 2 | F20: =F19+1 -> 17 | G20: =G19 -> 390 | H20: =H19+G20 -> 6630 | I20: =J19*$C$8 -> 55.379881 | J20: =J19+G20+I20 -> 7090.9657 | K20: =J20-H20 -> 460.96565
E21: =E9+1 -> 2 | F21: =F20+1 -> 18 | G21: =G20 -> 390 | H21: =H20+G21 -> 7020 | I21: =J20*$C$8 -> 59.09138 | J21: =J20+G21+I21 -> 7540.057 | K21: =J21-H21 -> 520.05703
E22: =E10+1 -> 2 | F22: =F21+1 -> 19 | G22: =G21 -> 390 | H22: =H21+G22 -> 7410 | I22: =J21*$C$8 -> 62.833809 | J22: =J21+G22+I22 -> 7992.8908 | K22: =J22-H22 -> 582.89084
E23: =E11+1 -> 2 | F23: =F22+1 -> 20 | G23: =G22 -> 390 | H23: =H22+G23 -> 7800 | I23: =J22*$C$8 -> 66.607424 | J23: =J22+G23+I23 -> 8449.4983 | K23: =J23-H23 -> 649.49827
E24: =E12+1 -> 2 | F24: =F23+1 -> 21 | G24: =G23 -> 390 | H24: =H23+G24 -> 8190 | I24: =J23*$C$8 -> 70.412486 | J24: =J23+G24+I24 -> 8909.9108 | K24: =J24-H24 -> 719.91075
E25: =E13+1 -> 2 | F25: =F24+1 -> 22 | G25: =G24 -> 390 | H25: =H24+G25 -> 8580 | I25: =J24*$C$8 -> 74.249256 | J25: =J24+G25+I25 -> 9374.16 | K25: =J25-H25 -> 794.16001
E26: =E14+1 -> 2 | F26: =F25+1 -> 23 | G26: =G25 -> 390 | H26: =H25+G26 -> 8970 | I26: =J25*$C$8 -> 78.118 | J26: =J25+G26+I26 -> 9842.278 | K26: =J26-H26 -> 872.27801
E27: =E15+1 -> 2 | F27: =F26+1 -> 24 | G27: =G26 -> 390 | H27: =H26+G27 -> 9360 | I27: =J26*$C$8 -> 82.018983 | J27: =J26+G27+I27 -> 10314.297 | K27: =J27-H27 -> 954.29699
... E543: =E531+1 -> 45 | F543: =F542+1 -> 540 | G543: =G542 -> 390 | H543: =H542+G543 -> 210600 | I543: =J542*$C$8 -> 33783.353 | J543: =J542+G543+I543 -> 4088175.7 | K543: =J543-H543 -> 3877575.7

Sheet Графика
B2: Година | C2: Месец | D2: Спестени и инвестирани | E2: Само спестени
B3: 1 | C3: 12 | D3: =VLOOKUP($C3, Таблица!$F:$K,5,FALSE) -> 4900.5716 | E3: =VLOOKUP($C3, Таблица!$F:$K,3,FALSE) -> 4680
B4: =B3+1 -> 2 | C4: =C3+12 -> 24 | D4: =VLOOKUP($C4, Таблица!$F:$K,5,FALSE) -> 10314.297 | E4: =VLOOKUP($C4, Таблица!$F:$K,3,FALSE) -> 9360
B5: =B4+1 -> 3 | C5: =C4+12 -> 36 | D5: =VLOOKUP($C5, Таблица!$F:$K,5,FALSE) -> 16294.91 | E5: =VLOOKUP($C5, Таблица!$F:$K,3,FALSE) -> 14040
B6: =B5+1 -> 4 | C6: =C5+12 -> 48 | D6: =VLOOKUP($C6, Таблица!$F:$K,5,FALSE) -> 22901.772 | E6: =VLOOKUP($C6, Таблица!$F:$K,3,FALSE) -> 18720
B7: =B6+1 -> 5 | C7: =C6+12 -> 60 | D7: =VLOOKUP($C7, Таблица!$F:$K,5,FALSE) -> 30200.458 | E7: =VLOOKUP($C7, Таблица!$F:$K,3,FALSE) -> 23400
B8: =B7+1 -> 6 | C8: =C7+12 -> 72 | D8: =VLOOKUP($C8, Таблица!$F:$K,5,FALSE) -> 38263.412 | E8: =VLOOKUP($C8, Таблица!$F:$K,3,FALSE) -> 28080
B9: =B8+1 -> 7 | C9: =C8+12 -> 84 | D9: =VLOOKUP($C9, Таблица!$F:$K,5,FALSE) -> 47170.663 | E9: =VLOOKUP($C9, Таблица!$F:$K,3,FALSE) -> 32760
B10: =B9+1 -> 8 | C10: =C9+12 -> 96 | D10: =VLOOKUP($C10, Таблица!$F:$K,5,FALSE) -> 57010.62 | E10: =VLOOKUP($C10, Таблица!$F:$K,3,FALSE) -> 37440
B11: =B10+1 -> 9 | C11: =C10+12 -> 108 | D11: =VLOOKUP($C11, Таблица!$F:$K,5,FALSE) -> 67880.948 | E11: =VLOOKUP($C11, Таблица!$F:$K,3,FALSE) -> 42120
B12: =B11+1 -> 10 | C12: =C11+12 -> 120 | D12: =VLOOKUP($C12, Таблица!$F:$K,5,FALSE) -> 79889.542 | E12: =VLOOKUP($C12, Таблица!$F:$K,3,FALSE) -> 46800
B13: =B12+1 -> 11 | C13: =C12+12 -> 132 | D13: =VLOOKUP($C13, Таблица!$F:$K,5,FALSE) -> 93155.592 | E13: =VLOOKUP($C13, Таблица!$F:$K,3,FALSE) -> 51480
B14: =B13+1 -> 12 | C14: =C13+12 -> 144 | D14: =VLOOKUP($C14, Таблица!$F:$K,5,FALSE) -> 107810.77 | E14: =VLOOKUP($C14, Таблица!$F:$K,3,FALSE) -> 56160
B15: =B14+1 -> 13 | C15: =C14+12 -> 156 | D15: =VLOOKUP($C15, Таблица!$F:$K,5,FALSE) -> 124000.54 | E15: =VLOOKUP($C15, Таблица!$F:$K,3,FALSE) -> 60840
... B47: =B46+1 -> 45 | C47: =C46+12 -> 540 | D47: =VLOOKUP($C47, Таблица!$F:$K,5,FALSE) -> 4088175.7 | E47: =VLOOKUP($C47, Таблица!$F:$K,3,FALSE) -> 210600
