Workbook

Sheet Таблица 1
B1: Бележка: Въведи приходите и разходите като положителни стойности
B3: Приходи | C3: Лева | E3: Легенда
B4: Заплата | E4: Въведи стойност
B5: Наем
B6: Дивиденти
B7: Други
B8: Общо приходи | C8: =SUM(C4:C7) -> 0
B10: Задължителни разходи | C10: Лева
B11: Наем
B12: Сметки
B13: Ипотечен кредит
B14: Потребителски кредит
B15: Местни такси
B16: Данъци
B17: Храна
B18: Транспорт
B19: Други
B20: Общо задължителни разходи | C20: =SUM(C11:C19) -> 0
B22: Максимални спестявания | C22: =C8-C20 -> 0
B24: Незадължителни разходи | C24: Лева
B25: Ресторанти
B26: Барове
B27: Цигари
B28: Кафе
B29: Други
B30: Общо незадължителни разходи | C30: =SUM(C25:C29) -> 0
B32: Очаквани спестявания | C32: =C22-C30 -> 0
B33: Очаквани спестявания като % от приходите | C33: =IFERROR(C32/C8,0) -> 0
B35: Бенчмарк | C35: 0.3 | D35: -> определи свой, ако моят не ти допада

Sheet Таблица 2
B1: План за следващите 12 месеца
B3: Месец | C3: Очаквани спестявания | D3: Постигнати спестявания | E3: Разлика | G3: Легенда
B4: 1 | C4: ='Таблица 1'!$C$32 -> 0 | E4: =D4-C4 -> 0 | G4: Въведи стойност
B5: 2 | C5: ='Таблица 1'!$C$32 -> 0 | E5: =D5-C5 -> 0
B6: 3 | C6: ='Таблица 1'!$C$32 -> 0 | E6: =D6-C6 -> 0
B7: 4 | C7: ='Таблица 1'!$C$32 -> 0 | E7: =D7-C7 -> 0
B8: 5 | C8: ='Таблица 1'!$C$32 -> 0 | E8: =D8-C8 -> 0
B9: 6 | C9: ='Таблица 1'!$C$32 -> 0 | E9: =D9-C9 -> 0
B10: 7 | C10: ='Таблица 1'!$C$32 -> 0 | E10: =D10-C10 -> 0
B11: 8 | C11: ='Таблица 1'!$C$32 -> 0 | E11: =D11-C11 -> 0
B12: 9 | C12: ='Таблица 1'!$C$32 -> 0 | E12: =D12-C12 -> 0
B13: 10 | C13: ='Таблица 1'!$C$32 -> 0 | E13: =D13-C13 -> 0
B14: 11 | C14: ='Таблица 1'!$C$32 -> 0 | E14: =D14-C14 -> 0
B15: 12 | C15: ='Таблица 1'!$C$32 -> 0 | E15: =D15-C15 -> 0
B16: Общо | C16: =SUM(C4:C15) -> 0 | D16: =SUM(D4:D15) -> 0 | E16: =SUM(E4:E15) -> 0

Sheet Таблица 3
B1: Бележка: Въведи крайните салда като положителни стойности
C3: Крайно салдо за месеца | M3: Легенда
B4: Месец | C4: Банкова сметка 1 | D4: Банкова сметка 2 | E4: Кредитна карта 1 | F4: Кредитна карта 2 | G4: Кеш | H4: Други | I4: Общо | K4: Спестявания за месеца | M4: Въведи стойност
B5: 0 | I5: =C5+D5-E5-F5+G5+H5 -> 0 | K5: -
B6: 1 | I6: =C6+D6-E6-F6+G6+H6 -> 0 | K6: =I6-I5 -> 0
B7: 2 | I7: =C7+D7-E7-F7+G7+H7 -> 0 | K7: =I7-I6 -> 0
B8: 3 | I8: =C8+D8-E8-F8+G8+H8 -> 0 | K8: =I8-I7 -> 0
B9: 4 | I9: =C9+D9-E9-F9+G9+H9 -> 0 | K9: =I9-I8 -> 0
B10: 5 | I10: =C10+D10-E10-F10+G10+H10 -> 0 | K10: =I10-I9 -> 0
B11: 6 | I11: =C11+D11-E11-F11+G11+H11 -> 0 | K11: =I11-I10 -> 0
B12: 7 | I12: =C12+D12-E12-F12+G12+H12 -> 0 | K12: =I12-I11 -> 0
B13: 8 | I13: =C13+D13-E13-F13+G13+H13 -> 0 | K13: =I13-I12 -> 0
B14: 9 | I14: =C14+D14-E14-F14+G14+H14 -> 0 | K14: =I14-I13 -> 0
B15: 10 | I15: =C15+D15-E15-F15+G15+H15 -> 0 | K15: =I15-I14 -> 0
B16: 11 | I16: =C16+D16-E16-F16+G16+H16 -> 0 | K16: =I16-I15 -> 0
B17: 12 | I17: =C17+D17-E17-F17+G17+H17 -> 0 | K17: =I17-I16 -> 0
